Workbook
Name _Hlt37751356: 'Text Messaging'!$B$14
Name _Hlt37754324: 'Text Messaging'!$B$15
Name _Ref160531692: 'Address Book'!$B$30
Name _Ref221088073: 蓝牙!$A$40
Name _Ref221951881: 蓝牙!$A$137
Name _Ref238382790: DM!#REF!
Name _Ref30186099: 'Text Messaging'!$B$17
Name _Ref7835914: 'Text Messaging'!$B$9
Name _Ref7836577: 'Text Messaging'!$B$11
Name _Ref7836694: 'Text Messaging'!$B$12
Name _Ref7837896: 'Text Messaging'!$B$13
Name _Toc126392385: 多媒体!#REF!
Name _Toc126637166: 多媒体!#REF!
Name _Toc159786147: DM!#REF!
Name _Toc162682500: 'Browser Requirements'!$B$243
Name _Toc162682501: 'Browser Requirements'!$B$247
Name _Toc162682502: 'Browser Requirements'!$B$249
Name _Toc162682503: 'Browser Requirements'!$B$251
Name _Toc162682550: 'Browser Requirements'!$B$866
Name _Toc163360276: 'Browser Requirements'!#REF!
Name _Toc172468382: 蓝牙!$A$4
Name _Toc174361068: 'Browser Requirements'!#REF!
Name _Toc174361085: 'Browser Requirements'!$B$284
Name _Toc174361087: 'Browser Requirements'!$B$291
Name _Toc174361122: 'Browser Requirements'!$B$745
Name _Toc174361123: 'Browser Requirements'!#REF!
Name _Toc174361124: 'Browser Requirements'!$B$784
Name _Toc187030909: 'Text Messaging'!$B$2
Name _Toc187030910: 'Text Messaging'!$B$3
Name _Toc187030911: 'Text Messaging'!$B$5
Name _Toc187030912: 'Text Messaging'!$B$7
Name _Toc187030914: 'Text Messaging'!$B$25
Name _Toc187030915: 'Text Messaging'!$B$27
Name _Toc187030916: 'Text Messaging'!$B$29
Name _Toc187030917: 'Text Messaging'!$B$31
Name _Toc187030918: 'Text Messaging'!$B$35
Name _Toc187030919: 'Text Messaging'!#REF!
Name _Toc187030920: 'Text Messaging'!$B$41
Name _Toc187030921: 'Text Messaging'!$B$43
Name _Toc187030922: 'Text Messaging'!$B$44
Name _Toc187030923: 'Text Messaging'!$B$46
Name _Toc187030924: 'Text Messaging'!$B$48
Name _Toc187030925: 'Text Messaging'!$B$50
Name _Toc187030926: 'Text Messaging'!$B$52
Name _Toc187030927: 'Text Messaging'!$B$55
Name _Toc187030928: 'Text Messaging'!$B$57
Name _Toc187030929: 'Text Messaging'!$B$58
Name _Toc187030930: 'Text Messaging'!$B$60
Name _Toc187030931: 'Text Messaging'!$B$62
Name _Toc187030932: 'Text Messaging'!$B$64
Name _Toc187030933: 'Text Messaging'!$B$67
Name _Toc187030934: 'Text Messaging'!$B$69
Name _Toc187030935: 'Text Messaging'!$B$71
Name _Toc187030936: 'Text Messaging'!$B$73
Name _Toc187030937: 'Text Messaging'!$B$74
Name _Toc187030938: 'Text Messaging'!$B$78
Name _Toc187030939: 'Text Messaging'!$B$80
Name _Toc187030940: 'Text Messaging'!$B$82
Name _Toc187030941: 'Text Messaging'!$B$84
Name _Toc187030942: 'Text Messaging'!$B$85

Sheet 需求验证统计
A1: # | B1: FUNCTIONAL AREA | C1: FILE NAME | D1: TOTAL | E1: NEED OR NOT | F1: NOTES | G1: USA or CHINA | H1: PC&FC | I1: N/A&NC | J1: PASS | K1: FAIL | L1: NotSupport | M1: N/A/T | N1: N/A/D | O1: N/A/R | P1: PASS RATIO | Q1: Progress | R1: N860负责人 | S1: who's in charge | T1: NOTES
B2: 汇总 | D2: =SUM(D3:D18) -> 5677 | F2: =SUM(F3:F18) -> 0 | H2: =SUM(H3:H18) -> 3482 | I2: =SUM(I3:I18) -> 2186 | J2: =SUM(J3:J18) -> 0 | K2: =SUM(K3:K18) -> 0 | L2: =SUM(L3:L18) -> 595 | M2: =SUM(M3:M18) -> 0 | N2: =SUM(N3:N18) -> 0 | O2: =SUM(O3:O18) -> 0 | P2: =J2/(D2-I2) -> 0 | Q2: =(J2+K2+L2+M2+N2+O2)/D2 -> 0.10480888
A3: 1 | B3: 通用 | C3: Androind 2(1).3-1 compliance matrix (Sprint Sean) 07182011 ZTE.xlsx | D3: =COUNTIF('Androind 2(1).3-1'!F4:F319,"*")+COUNTIF('Androind 2(1).3-1'!G4:G319,"*") -> 243 | E3: 是 | F3: sprint android相关需求，涉及到各个模块大的功能点，可以分解到各模块需求检查 | G3: 后方 | H3: =COUNTIF('Androind 2(1).3-1'!F4:F319,"FC")+COUNTIF('Androind 2(1).3-1'!F4:F319,"PC") -> 145 | I3: =COUNTIF('Androind 2(1).3-1'!G4:G319,"*") -> 98 | J3: =COUNTIF('Androind 2(1).3-1'!$K$1:$K2000,"pass") -> 0 | K3: =COUNTIF('Androind 2(1).3-1'!$K$1:$K2000,"FAIL") -> 0 | L3: =COUNTIF('Androind 2(1).3-1'!$K$1:$K$2000,"NOTSUPPORT") -> 98 | M3: =COUNTIF('Androind 2(1).3-1'!$K$1:$K2000,"N/A/T") -> 0 | N3: =COUNTIF('Androind 2(1).3-1'!$K$1:$K2000,"N/A/D") -> 0 | O3: =COUNTIF('Androind 2(1).3-1'!$K$1:$K2000,"N/A/R") -> 0 | P3: =J3/(D3-I3) -> 0 | Q3: =(J3+K3+L3+M3+N3+O3)/D3 -> 0.40329218 | R3: 黄河
A4: 2 | B4: AT | C4: AT Command Requirement 1.6 compliance matrix_(Sprint Sean) 05262011 ZTE.xlsx | D4: =COUNTIF(AT!F4:F472,"*")+COUNTIF(AT!G4:G472,"*") -> 450 | E4: 是 | F4: 没有局方用例，以局方需求为准测试 | G4: 后方 | H4: =COUNTIF(AT!F4:F472,"FC")+COUNTIF(AT!F5:F472,"PC") -> 172 | I4: =COUNTIF(AT!G4:G472,"*") -> 278 | J4: =COUNTIF(AT!$K$1:$K2001,"pass") -> 0 | K4: =COUNTIF(AT!$K$1:$K2001,"FAIL") -> 0 | L4: =COUNTIF(AT!$K$1:$K$2000,"NOTSUPPORT") -> 278 | M4: =COUNTIF(AT!$K$1:$K2001,"N/A/T") -> 0 | N4: =COUNTIF(AT!$K$1:$K2001,"N/A/D") -> 0 | O4: =COUNTIF(AT!$K$1:$K2001,"N/A/R") -> 0 | P4: =J4/(D4-I4) -> 0 | Q4: =(J4+K4+L4+M4+N4+O4)/D4 -> 0.61777778 | R4: 艾成斌
A5: 3 | B5: Automation | C5: Automation Requirement 1(1).1 compliance matrix (Sprint Sean) 07282011 ZTE.xlsx | D5: =COUNTIF(Automation!$F:$F,"*")+COUNTIF(Automation!$G:$G,"*") -> 233 | E5: 是 | F5: SLATE DC测试内容，需要通过SLATE DC来验证 | G5: 后方 | H5: =COUNTIF(Automation!$F:$F,"*") -> 218 | I5: =COUNTIF(Automation!$G:$G,"*") -> 15 | J5: =COUNTIF(Automation!$K$1:$K2002,"pass") -> 0 | K5: =COUNTIF(Automation!$K$1:$K2002,"FAIL") -> 0 | L5: =COUNTIF(Automation!$K$1:$K$2000,"NOTSUPPORT") -> 14 | M5: =COUNTIF(Automation!$K$1:$K2002,"N/A/T") -> 0 | N5: =COUNTIF(Automation!$K$1:$K2002,"N/A/D") -> 0 | O5: =COUNTIF(Automation!$K$1:$K2002,"N/A/R") -> 0 | P5: =J5/(D5-I5) -> 0 | Q5: =(J5+K5+L5+M5+N5+O5)/D5 -> 0.060085837
A6: 4 | B6: Camera | C6: Camera_CM (Sprint Sean) 09262011 ZTE.xls | D6: =COUNTIF(Camera!$C:$C,"*") -> 113 | E6: 是 | F6: camera模块相关 | G6: 后方 | H6: =COUNTIF(Camera!$C:$C,"FC")+COUNTIF(Camera!$C:$C,"PC") -> 57 | I6: =COUNTIF(Camera!$C:$C,"N/A")+COUNTIF(Camera!$C:$C,"NC")+COUNTIF(Camera!$C:$C,"NA") -> 55 | J6: =COUNTIF('Androind 2(1).3-1'!$K$1:$K2003,"pass") -> 0 | K6: =COUNTIF(Camera!$K$1:$K2003,"FAIL") -> 0 | L6: =COUNTIF(Camera!$K$1:$K$2000,"NOTSUPPORT") -> 55 | M6: =COUNTIF(Camera!$K$1:$K2003,"N/A/T") -> 0 | N6: =COUNTIF(Camera!$K$1:$K2003,"N/A/D") -> 0 | O6: =COUNTIF(Camera!$K$1:$K2003,"N/A/R") -> 0 | P6: =J6/(D6-I6) -> 0 | Q6: =(J6+K6+L6+M6+N6+O6)/D6 -> 0.48672566 | R6: 杨华
A7: 5 | B7: text message | C7: CL_Sprint_Text_Messaging_v3_(Sprint Sean) 06202011 ZTE.xls | D7: =COUNTIF('Text Messaging'!$C:$C,"*")+COUNTIF('Text Messaging'!$D:$D,"*")-2 -> 420 | E7: 是 | F7: address，sms，phonebook等message相关 | G7: 后方 | H7: =COUNTIF('Text Messaging'!$C:$C,"FC")+COUNTIF('Text Messaging'!$C:$C,"PC") -> 329 | I7: =COUNTIF('Text Messaging'!$D:$D,"NC")+COUNTIF('Text Messaging'!$D:$D,"N/A") -> 91 | J7: =COUNTIF('Text Messaging'!$K$1:$K2004,"pass") -> 0 | K7: =COUNTIF('Text Messaging'!$K$1:$K2004,"FAIL") -> 0 | L7: =COUNTIF('Text Messaging'!$K$1:$K$2000,"NOTSUPPORT") -> 0 | M7: =COUNTIF('Text Messaging'!$K$1:$K2004,"N/A/T") -> 0 | N7: =COUNTIF('Text Messaging'!$K$1:$K2004,"N/A/D") -> 0 | O7: =COUNTIF('Text Messaging'!$K$1:$K2004,"N/A/R") -> 0 | P7: =J7/(D7-I7) -> 0 | Q7: =(J7+K7+L7+M7+N7+O7)/D7 -> 0 | R7: 李玲
A8: 6 | B8: CMAS | C8: compliance matrix cmas ui android spec v1.0 (Sprint Sean) 08252011 ZTE.xlsx | D8: =COUNTIF(CMAS!D4:D50,"*") -> 35 | E8: 是 | G8: 前方 | H8: =COUNTIF(CMAS!D4:D50,"FC")+COUNTIF(CMAS!D4:D50,"PC") -> 35 | I8: =COUNTIF(CMAS!I9:I50,"NC")+COUNTIF(CMAS!I9:I50,"N/A") -> 0 | J8: =COUNTIF(CMAS!$K$1:$K2005,"pass") -> 0 | K8: =COUNTIF(CMAS!$K$1:$K2005,"FAIL") -> 0 | L8: =COUNTIF(CMAS!$K$1:$K$2000,"NOTSUPPORT") -> 0 | M8: =COUNTIF(CMAS!$K$1:$K2005,"N/A/T") -> 0 | N8: =COUNTIF(CMAS!$K$1:$K2005,"N/A/D") -> 0 | O8: =COUNTIF(CMAS!$K$1:$K2005,"N/A/R") -> 0 | P8: =J8/(D8-I8) -> 0 | Q8: =(J8+K8+L8+M8+N8+O8)/D8 -> 0
A9: 7 | B9: General Functional | C9: Sprint 3G CE General Functional Compliance Matrix v3 4 (Sprint Sean) 10182011 ZTE.xlsx | D9: =COUNTIF('General Functional'!$C:$C,"*")+COUNTIF('General Functional'!$D:$D,"*")-2 -> 1064 | E9: 是 | F9: General Functional大部分是硬件，参数等；885到1013行后面有Swaminathan的，是需求应答中取消的 | G9: 后方 | H9: =COUNTIF('General Functional'!$C:$C,"FC")+COUNTIF('General Functional'!$C:$C,"PC") -> 976 | I9: =COUNTIF('General Functional'!$D:$D,"NC")+COUNTIF('General Functional'!$D:$D,"N/A") -> 88 | J9: =COUNTIF('General Functional'!$K$1:$K2006,"pass") -> 0 | K9: =COUNTIF('General Functional'!$K$1:$K2006,"FAIL") -> 0 | L9: =COUNTIF('General Functional'!$K$1:$K$2000,"NOTSUPPORT") -> 88 | M9: =COUNTIF('General Functional'!$K$1:$K2006,"N/A/T") -> 0 | N9: =COUNTIF('General Functional'!$K$1:$K2006,"N/A/D") -> 0 | O9: =COUNTIF('General Functional'!$K$1:$K2006,"N/A/R") -> 0 | P9: =J9/(D9-I9) -> 0 | Q9: =(J9+K9+L9+M9+N9+O9)/D9 -> 0.082706767 | R9: 王启捷
A10: 8 | B10: Address Book | C10: Sprint Address Book Requirements compliance matrix (Sprint Sean) 05262011 ZTE.xls | D10: =COUNTIF('Address Book'!$G:$G,"*")+COUNTIF('Address Book'!$H:$H,"*")-2 -> 350 | E10: 是 | F10: address book | G10: 后方 | H10: =COUNTIF('Address Book'!$G:$G,"FC")+COUNTIF('Address Book'!$G:$G,"PC") -> 143 | I10: =COUNTIF('Address Book'!$H:$H,"NC")+COUNTIF('Address Book'!$H:$H,"N/A") -> 207 | J10: =COUNTIF('Address Book'!$K$1:$K2007,"pass") -> 0 | K10: =COUNTIF('Address Book'!$K$1:$K2007,"FAIL") -> 0 | L10: =COUNTIF('Address Book'!$K$1:$K$2000,"NOTSUPPORT") -> 0 | M10: =COUNTIF('Address Book'!$K$1:$K2007,"N/A/T") -> 0 | N10: =COUNTIF('Address Book'!$K$1:$K2007,"N/A/D") -> 0 | O10: =COUNTIF('Address Book'!$K$1:$K2007,"N/A/R") -> 0 | P10: =J10/(D10-I10) -> 0 | Q10: =(J10+K10+L10+M10+N10+O10)/D10 -> 0 | R10: 卫立峰
A11: 9 | B11: DM | C11: Sprint OMA-DM Compliance Matrix 2(1).01 (Sprint Sean) 06202011 ZTE.xls | D11: =COUNTIF(DM!B5:B249,"Y")+COUNTIF(DM!B5:B249,"N") -> 221 | E11: 是 | F11: DM需求验证，需要由前方完成。 | G11: 前方 | H11: =COUNTIF(DM!B5:B249,"Y") -> 207 | I11: =COUNTIF(DM!B5:B249,"N") -> 14 | J11: =COUNTIF(DM!$K$1:$K2008,"pass") -> 0 | K11: =COUNTIF(DM!$K$1:$K2008,"FAIL") -> 0 | L11: =COUNTIF(DM!$K$1:$K$2000,"NOTSUPPORT") -> 20 | M11: =COUNTIF(DM!$K$1:$K2008,"N/A/T") -> 0 | N11: =COUNTIF(DM!$K$1:$K2008,"N/A/D") -> 0 | O11: =COUNTIF(DM!$K$1:$K2008,"N/A/R") -> 0 | P11: =J11/(D11-I11) -> 0 | Q11: =(J11+K11+L11+M11+N11+O11)/D11 -> 0.090497738 | R11: 石川、樊霞
A12: 10 | B12: 蓝牙 | C12: Sprint_Bluetooth_(Sprint Sean) 06202011 ZTE.xls | D12: =COUNTIF(蓝牙!C5:C1116,"FC")+COUNTIF(蓝牙!C5:C1116,"PC")+COUNTIF(蓝牙!D5:D1116,"FC")+COUNTIF(蓝牙!D5:D1116,"PC")+COUNTIF(蓝牙!D5:D1116,"NC")+COUNTIF(蓝牙!D5:D1116,"NA")+COUNTIF(蓝牙!E5:E1116,"FC")+COUNTIF(蓝牙!E5:E1116,"PC")+COUNTIF(蓝牙!E5:E1116,"NC")+COUNTIF(蓝牙!E5:E1116,"NA")+COUNTIF(蓝牙!F5:F1116,"FC")+COUNTIF(蓝牙!F5:F1116,"PC")+COUNTIF(蓝牙!F5:F1116,"NC")+COUNTIF(蓝牙!F5:F1116,"NA")+COUNTIF(蓝牙!G5:G1116,"FC")+COUNTIF(蓝牙!G5:G1116,"PC")+COUNTIF(蓝牙!G5:G1116,"NC")+COUNTIF(蓝牙!G5:G1116,"NA")+COUNTIF(蓝牙!H5:H1116,"NC")+COUNTIF(蓝牙!H5:H1116,"NA") -> 1022 | E12: 是 | F12: 蓝牙模块支持能力测试，用例覆盖情况较好，需以用例测试为主 | G12: 后方 | H12: =COUNTIF(蓝牙!C5:C1116,"FC")+COUNTIF(蓝牙!C5:C1116,"PC")+COUNTIF(蓝牙!D5:D1116,"FC")+COUNTIF(蓝牙!D5:D1116,"PC")+COUNTIF(蓝牙!E5:E1116,"FC")+COUNTIF(蓝牙!E5:E1116,"PC")+COUNTIF(蓝牙!F5:F1116,"FC")+COUNTIF(蓝牙!F5:F1116,"PC")+COUNTIF(蓝牙!G5:G1116,"FC")+COUNTIF(蓝牙!G5:G1116,"PC") -> 260 | I12: =D12-H12 -> 762 | J12: =COUNTIF(蓝牙!$K$1:$K2009,"pass") -> 0 | K12: =COUNTIF(蓝牙!$K$1:$K2009,"FAIL") -> 0 | L12: =COUNTIF(蓝牙!$K$1:$K$2000,"NOTSUPPORT") -> 0 | M12: =COUNTIF(蓝牙!$K$1:$K2009,"N/A/T") -> 0 | N12: =COUNTIF(蓝牙!$K$1:$K2009,"N/A/D") -> 0 | O12: =COUNTIF(蓝牙!$K$1:$K2009,"N/A/R") -> 0 | P12: =J12/(D12-I12) -> 0 | Q12: =(J12+K12+L12+M12+N12+O12)/D12 -> 0 | R12: 董莹莹
A13: 11 | B13: 浏览器 | C13: Sprint_Browser_compliance_matrix (Sprint Sean) 07182011 ZTE.xls | D13: =COUNTIF('Browser Requirements'!$C:$C,"*")+COUNTIF('Browser Requirements'!$D:$D,"*")+COUNTIF('Browser Requirements'!$E:$E,"*")-3 -> 970 | E13: 是 | F13: 浏览器模块基本功能需求，后方验证 | G13: 后方 | H13: =COUNTIF('Browser Requirements'!C3:C1201,"FC")+COUNTIF('Browser Requirements'!C3:C1201,"PC") -> 500 | I13: =COUNTIF('Browser Requirements'!D3:D1201,"NC")+COUNTIF('Browser Requirements'!E3:E1201,"N/A") -> 463 | J13: =COUNTIF('Browser Requirements'!$K$1:$K2010,"pass") -> 0 | K13: =COUNTIF('Browser Requirements'!$K$1:$K2010,"FAIL") -> 0 | L13: =COUNTIF('Browser Requirements'!$K$1:$K$2000,"NOTSUPPORT") -> 0 | M13: =COUNTIF('Browser Requirements'!$K$1:$K2010,"N/A/T") -> 0 | N13: =COUNTIF('Browser Requirements'!$K$1:$K2010,"N/A/D") -> 0 | O13: =COUNTIF('Browser Requirements'!$K$1:$K2010,"N/A/R") -> 0 | P13: =J13/(D13-I13) -> 0 | Q13: =(J13+K13+L13+M13+N13+O13)/D13 -> 0 | R13: 杨华
A14: 12 | B14: EMAIL | C14: Sprint_EAS_Spec_v1.3_(Sprint Sean) 06202011 ZTE.xlsx | D14: =COUNTIF('EAS Spec v1.3'!C5:C171,"FC")+COUNTIF('EAS Spec v1.3'!C5:C171,"PC")+COUNTIF('EAS Spec v1.3'!C5:C171,"NC")+COUNTIF('EAS Spec v1.3'!C5:C171,"N/A") -> 156 | E14: 是 | F14: EAS验证Exchange Active Sync模块功能，后方可以完成 | G14: 后方 | H14: =COUNTIF('EAS Spec v1.3'!C5:C171,"FC")+COUNTIF('EAS Spec v1.3'!C5:C171,"PC") -> 123 | I14: =COUNTIF('EAS Spec v1.3'!C5:C171,"NC")+COUNTIF('EAS Spec v1.3'!C5:C171,"N/A") -> 33 | J14: =COUNTIF('EAS Spec v1.3'!$K$1:$K2011,"pass") -> 0 | K14: =COUNTIF('EAS Spec v1.3'!$K$1:$K2011,"FAIL") -> 0 | L14: =COUNTIF('EAS Spec v1.3'!$K$1:$K$2000,"NOTSUPPORT") -> 0 | M14: =COUNTIF('EAS Spec v1.3'!$K$1:$K2011,"N/A/T") -> 0 | N14: =COUNTIF('EAS Spec v1.3'!$K$1:$K2011,"N/A/D") -> 0 | O14: =COUNTIF('EAS Spec v1.3'!$K$1:$K2011,"N/A/R") -> 0 | P14: =J14/(D14-I14) -> 0 | Q14: =(J14+K14+L14+M14+N14+O14)/D14 -> 0 | R14: 李文娟
A15: 13 | B15: 多媒体 | C15: Sprint_Master_Multimedia_Compliance_Matrix_4.2 (Sprint Sean) 07182011 ZTE.XLS | D15: =COUNTIF(多媒体!B4:B167,"*")+COUNTIF(多媒体!C4:C167,"*") -> 146 | E15: 是 | F15: 多媒体支持能力验证 | G15: 后方 | H15: =COUNTIF(多媒体!B4:B167,"FC")+COUNTIF(多媒体!B4:B167,"PC") -> 108 | I15: =COUNTIF(多媒体!C4:C167,"NC")+COUNTIF(多媒体!C4:C167,"N/A") -> 38 | J15: =COUNTIF(多媒体!$K$1:$K2012,"pass") -> 0 | K15: =COUNTIF(多媒体!$K$1:$K2012,"FAIL") -> 0 | L15: =COUNTIF(多媒体!$K$1:$K$2000,"NOTSUPPORT") -> 38 | M15: =COUNTIF(多媒体!$K$1:$K2012,"N/A/T") -> 0 | N15: =COUNTIF(多媒体!$K$1:$K2012,"N/A/D") -> 0 | O15: =COUNTIF(多媒体!$K$1:$K2012,"N/A/R") -> 0 | P15: =J15/(D15-I15) -> 0 | Q15: =(J15+K15+L15+M15+N15+O15)/D15 -> 0.26027397 | R15: 董莹莹/田芳
A16: 14 | B16: MMS | C16: Sprint_OMA_MMS (Sprint Sean) 06142011 ZTE.xls | D16: =COUNTIF('OMA-MMS'!D:D,"*") -> 73 | E16: 是 | F16: 彩信功能验证，需要重点关注 | G16: 后方 | H16: =COUNTIF('OMA-MMS'!D:D,"Complies")+COUNTIF('OMA-MMS'!D:D,"Partially complies") -> 60 | I16: =COUNTIF('OMA-MMS'!D:D,"Does not comply")+COUNTIF('OMA-MMS'!D:D,"Not applicable") -> 12 | J16: =COUNTIF('OMA-MMS'!$K$1:$K2013,"pass") -> 0 | K16: =COUNTIF('OMA-MMS'!$K$1:$K2013,"FAIL") -> 0 | L16: =COUNTIF('OMA-MMS'!$K$1:$K$2000,"NOTSUPPORT") -> 4 | M16: =COUNTIF('OMA-MMS'!$K$1:$K2013,"N/A/T") -> 0 | N16: =COUNTIF('OMA-MMS'!$K$1:$K2013,"N/A/D") -> 0 | O16: =COUNTIF('OMA-MMS'!$K$1:$K2013,"N/A/R") -> 0 | P16: =J16/(D16-I16) -> 0 | Q16: =(J16+K16+L16+M16+N16+O16)/D16 -> 0.054794521 | R16: 王泉
A17: 15 | B17: 浏览器 | C17: Sprint_UA_Prof_compliance_matrix (Sprint Sean) 05262011 ZTE.xls | D17: =COUNTIF('UA Prof'!C4:C50,"*") -> 33 | E17: 是 | F17: UAProfile验证 | G17: 后方 | H17: =COUNTIF('UA Prof'!C4:C50,"fc") -> 33 | I17: 0 | J17: =COUNTIF('UA Prof'!$K$1:$K2014,"pass") -> 0 | K17: =COUNTIF('UA Prof'!$K$1:$K2014,"FAIL") -> 0 | L17: =COUNTIF('UA Prof'!$K$1:$K$2000,"NOTSUPPORT") -> 0 | M17: =COUNTIF('UA Prof'!$K$1:$K2014,"N/A/T") -> 0 | N17: =COUNTIF('UA Prof'!$K$1:$K2014,"N/A/D") -> 0 | O17: =COUNTIF('UA Prof'!$K$1:$K2014,"N/A/R") -> 0 | P17: =J17/(D17-I17) -> 0 | Q17: =(J17+K17+L17+M17+N17+O17)/D17 -> 0 | R17: 杨磊
A18: 16 | B18: WIFI | C18: WiFi Requirements ver 1.2.0.(Sprint Sean) 09072011 ZTE.XLS | D18: =H18+I18 -> 148 | E18: 是 | F18: WIFI功能验证 | G18: 前方 | H18: =COUNTIF('WIFI General Requirements'!E8:E240,"FC")+COUNTIF('WIFI General Requirements'!E8:E240,"PC") -> 116 | I18: =COUNTIF('WIFI General Requirements'!F8:F240,"NA")+COUNTIF('WIFI General Requirements'!F8:F240,"N/A") -> 32 | J18: =COUNTIF('WIFI General Requirements'!$K$1:$K2015,"pass") -> 0 | K18: =COUNTIF('WIFI General Requirements'!$K$1:$K2015,"FAIL") -> 0 | L18: =COUNTIF('WIFI General Requirements'!$K$1:$K$2000,"NOTSUPPORT") -> 0 | M18: =COUNTIF('WIFI General Requirements'!$K$1:$K2015,"N/A/T") -> 0 | N18: =COUNTIF('WIFI General Requirements'!$K$1:$K2015,"N/A/D") -> 0 | O18: =COUNTIF('WIFI General Requirements'!$K$1:$K2015,"N/A/R") -> 0 | P18: =J18/(D18-I18) -> 0 | Q18: =(J18+K18+L18+M18+N18+O18)/D18 -> 0 | R18: 李玲
A19: 17 | B19: DOrA | C19: DOrA Compliance Matrix v2.2.1_(Sprint Sean) 06202011 ZTE.xlsx | D19: 187 | E19: 否 | F19: DOrA | T19: 协议相关
A20: 18 | B20: Durability | C20: Durability Compliance Matrix v2(1).0 04022009_(Sprint Sean) 10112011 ZTE.xls | D20: 68 | E20: 否 | F20: 硬件相关 | T20: 硬件相关
A21: 19 | B21: 电源 | C21: Power_CM (Sprint Sean) 06202011 ZTE.xlsx | D21: 57 | E21: 否 | F21: 硬件相关 | T21: 电源相关
A22: 20 | B22: Band Class 10 | C22: Sprint Band Class 10 Compliance Matrix v1_2_(Sprint Sean) 06022011 ZTE.xlsx | D22: 36 | E22: 否 | F22: Band Class 10 不支持 | R22: 王彦钊 | T22: 协议相关
A23: 21 | B23: DOM(Document Object Model ) | C23: Sprint DOM Requirements compliance matrix (Sprint Sean) 05262011 ZTE.xls | D23: 1011 | E23: 否 | F23: CSS相关DOM函数类型验证，与浏览器内容相关，建议不做进一步验证 | T23: 浏览器脚本语言相关
A24: 22 | B24: 浏览器 | C24: Sprint ECMA Script Mobile Profile compliance matrix (Sprint Sean) 05262011 ZTE.xls | D24: 439 | E24: 否 | F24: 标记语言内容测试，属于google自带浏览器内核支持能力范围，但是SGS测试范围内容需要加以关注，可以以SPRINT测试资源完成需求验证 | R24: 李乃蓉，蓝冬英 | T24: 浏览器脚本语言相关
A25: 23 | B25: 协议 | C25: Sprint System Selection Requirements Matrix v 1 0_(Sprint Sean) 08192011 ZTE.xlsx | E25: 否 | F25: EVDO协议选网相关，与高通芯片支持能力有关，无需进一步验证 | T25: 协议相关
A26: 24 | B26: 浏览器 | C26: Sprint_CSS_compliance_matrix (Sprint Sean) 05262011 ZTE.xls | E26: 否 | F26: 标记语言内容测试，属于google自带浏览器内核支持能力范围，无需进一步验证 | T26: 浏览器脚本语言相关
A27: 25 | B27: 浏览器 | C27: Sprint_HTML_compliance_matrix (Sprint Sean) 05262011 ZTE.xls | D27: 765 | E27: 否 | F27: 标记语言内容测试，属于google自带浏览器内核支持能力范围，但是SGS测试范围内容需要重点加以关注；此部分多是涉及HTML语言每个元素的应用验证，总共700多条很难一一进行确认。 而且浏览器是系统自带的，就算验出问题也不见得google会修改。 | R27: 杨磊 | T27: 浏览器脚本语言相关
A28: 26 | B28: LBS | C28: Sprint_LBS_Requirements_compliance_matrix (Sprint Sean) 08042011 ZTE.xls | D28: 141 | E28: 否 | F28: LBS协议相关，需后方验证 | T28: 协议相关
A29: 27 | B29: Service&Repair | C29: Sprint_Retail_Service__Repair_Compliance_Matrix_Version_4_5 (Sprint Sean) 05262011 ZTE.xls | E29: 否 | F29: 提交测试样机相关，无需软件验证内容 | T29: 售后需求
A30: 28 | B30: 浏览器 | C30: Sprint_XHTML_compliance_matrix (Sprint Sean) 05262011 ZTE.xls | E30: 否 | F30: 标记语言内容测试，属于google自带浏览器内核支持能力范围，无需进一步验证 | T30: 浏览器脚本语言相关
A31: 29 | B31: Roaming Enhancement | C31: Roaming Enhancement 1[1].1 - (Sprint Sean) 05262011 ZTE.xlsx | E31: 否 | T31: 协议相关

Sheet CMAS
A1: Sprint CMAS UI Spec, Version 1.0
B2: Req ID | C2: Requirement | D2: Comply | E2: Not Comply | F2: Comments | K2: N850需求验证结果 | L2: 负责人
A3: 1 General
C4: For the purpose of notifications, the Presidential CMAS alerts will have a different set of rules vs all other notifications. | D4: FC
C5: The OEM MUST use their existing Android framework for notification presentation and logic with some exceptions. The exceptions will be noted in this document. | D5: FC
C6: The OEM MUST use the Presidential CMAS alert expiration date as per standards for the purposes of this document | D6: FC
C7: Please refer to the “Joint ATIS/TIA CMAS Mobile Device Behavior Specification (Joint TR45.8 Project Number PN-3-0345” for the following: o Common Audio Attention Signal o Common Vibration Cadence | D7: FC | F7: please provide “Joint ATIS/TIA CMAS Mobile Device Behavior Specification (Joint TR45.8 Project Number PN-3-0345” [06202011 ZTE]update TBD to FC.
C8: All Commercial Alerts (defined as CMAS alerts that do NOT go through the federal gateway and/or with the classes of presidential alert, severe alert, and extreme alert), etc MUST be ignored by the handset. | D8: FC | F8: [ZTE]Still waiting for the feedback from Qualcomm. [06202011 ZTE]how to know the alerts is come from federal gateway? Does all of alerts come from federal gateway? [08152011 ZTE][ZTE]Yes, it is a question for Sprint. Because the spec says "defined as CMAS alerts that do NOT go through the federal gateway and/or with the classes of presidential alert, severe alert, and extreme alert". Per our understanding, we can not know if an alerts comes from the federal gateway or not, so we open the question hoping to get clarification from Sprint. 【08252011 Neeraj S】That requirement simply means that any alerts other than the Presidential,severe and extreme must be ignored by the device. [08252011 ZTE]update TBD to FC.
C9: If the user has power cycled their handset and a Presidential Alert has NOT been viewed, the Presidential CMAS icon MUST continue to flash when the device is powered on again. | D9: FC
A10: 2 Incoming CMAS Notification
C11: When a non-Presidential CMAS alert arrives on the Android handset (e.g. Home screen, in call, in a different application), it MUST display like any other SMS notification. | D11: FC
C12: When a Presidential CMAS alert arrives on the Android handset (e.g. Home screen, in call, in a different application), it MUST display like any other SMS notification with 1 exception – the CMAS icon (in the Annunciator Row) MUST flash. | D12: FC
C13: The Presidential CMAS icon <provided with this documentation> MUST be used. | D13: FC
C14: The Presidential CMAS icon MUST flash until the user has entered the specific thread (similar to how other SMS alerts function). | D14: FC
C15: Once the CMAS (Presidential or non-Presidential Alert) is read, the CMAS icon MUST disappear. | D15: FC
C16: The handset MUST emit a double beep (through the earpiece/speaker/headset) when a CMAS arrives regardless of the application that is running. | D16: FC
C17: If another NON-Presidential CMAS (or another SMS) arrives on the handset while a Presidential CMAS is still present (and flashing), the new alert MUST briefly display in the Annunciator row (similar to how other notifications are displayed) but disappear and the Presidential CMAS alert MUST continue to be present and flashing. | D17: FC
C18: o In short, the Presidential CMAS alert takes “permanent” authority over the other alerts (non-Presidential included) until the Presidential CMAS alert has been viewed. | D18: FC
A19: 3 CMAS Alerts on the Lock Screen
C20: All CMAS alerts MUST trigger the LED to blink accordingly (similar to how Android behaves). | D20: FC
C21: In addition to the icon (flashing or not) in the Annunciator row, the handset MUST present ONLY the Presidential CMAS icon (plus text) under the Time/Date. See PDF document that accompanies this specification. | D21: FC
C22: All other CMAS alerts MUST NOT be presented on the lock screen under the Time/Date. | D22: FC
C23: Once the Presidential CMAS message is read, the CMAS (Presidential) icon on the Unlock screen MUST disappear. | D23: FC
A24: 4 Messaging Screen
C25: CMAS Presidential messages MUST NOT be threaded (i.e. they must be individually stored). | D25: FC
C26: All other CMAS message MUST be threaded by type of alert (Amber, Severe, etc…) | D26: FC
C27: All CMAS messages classified as “Presidential” MUST be pinned to the top (directly above the “Today” heading) of the Inbox regardless of order received. | D27: FC
C28: o All Presidential CMAS Alerts MUST be ordered (top to bottom) in reverse chronological order. | D28: FC
C29: Once a Presidential CMAS message has expired (as per the expiration field in the CMAS message), re-sort them based on the normal Messaging rules and logic. | D29: FC
C30: The handset MUST flag the expiration date on the CMAS message in order to know when to “re-sort” the expired Presidential Alert within the Inbox. The handset MUST place the “expired” Presidential alert at the date in which the handset received it. | D30: FC
C31: All other CMAS alerts (non Presidential) MUST follow the same logic as all other messages. | D31: FC
C32: Format of CMAS Message - See wireframe | D32: FC
C33: Message Format - See wireframe | D33: FC
A34: Settings
C35: The Messaging Settings Menu MUST contain a selection titled: “CMAS Alerts”. | D35: FC
C36: The Main Android Settings may also contain this menu as well. | D36: FC
C37: The [Messaging\Settings\CMAS Alerts] menu MUST have the following selections: <Title> Receive CMAS Alerts Presidential Alerts Extreme Alerts Severe Alerts Amber Alerts CMAS Test Messages | D37: FC
C38: The Presidential alert option (above) MUST be present but it is “read only”. This MUST show that the checkbox is unchecked (the user MUST NOT be able to check it). | D38: FC | F38: [ZTE]According to Presidential alert' importance,we understand that The Presidential alert option should be checked,please confirm it. [06142011 ZTE]It will be checked
C39: The PRI document MUST contain the default values (checked or unchecked). | D39: FC | F39: [ZTE]please provide default value of each CMAS Alert option [06142011 ZTE]It will be unchecked
C40: The user MUST be able to check and uncheck each of the different CMAS alerts (excluding Presidential) | D40: FC
...

Sheet Androind 2(1).3-1
A1: Sprint Android Compliance Matrix Version 2.3-1 - Gingerbread February 2011
D2: Req ID | E2: Requirement | F2: Comply | G2: Not Comply | H2: Comments | K2: N850需求验证结果 | L2: 负责人
A3: 2. Android Requirements
D4: ANDR-001 | E4: Customer Equipment MUST support the latest release of Android 2.3. | F4: FC
D5: ANDR-002 | E5: Customer Equipment MUST be fully compatible with the applications that are created with the matching Android SDK. For example, the device supports "Gingerbread" release needs to work well with the application written with Android SDK 2.3. | F5: FC
D6: ANDR-003 | E6: Customer Equipment MUST support the development tools included in the matching Android SDK. For example, adb and ddms tool included in Android SDK MUST work with the device. For example, adb and ddms tool included in Android SDK MUST work with the device. | F6: FC
D7: ANDR-005 | E7: (OPTIONAL) OEM MAY provide a SDK add on component to developers, if the device has a hardware or software component that OEM wants to expose to developers but there is no standard Android API to access it. OEM MUST provide Sprint with a copy of the SDK add on component that is going to be exposed to developers. | G7: NC | H7: ZTE suggests only supporting the android default APK. | K7: NotSupport
D8: ANDR-006 | E8: OEM MUST provide Windows, Mac OS, and Linux drivers for the device. The Windows and Mac OS drivers are required for logging the device and must be made available to customers. The Linux drivers are required for executing the Google CTS test cases by Sprint. It is recommended that OEMs make Linux drivers available to customers. | F8: PC | H8: Linux driver is only for CTS.
D9: ANDR-014 | E9: The OEM MUST provide the CTS reports to Sprint at Gate 1, user trial, and lab exit. | F9: FC
D10: ANDR-013 | E10: (OPTIONAL) OEM SHOULD test the featured or popular applications in the Android market place to make sure those featured applications are working as designed on the Android device. If OEM finds an application issue from the featured applications, OEM SHOULD notify Sprint CE team. OEM SHOULD also report the issue to the application developer, so the application developer can resolve the issue prior to the device launch. | G10: NC | H10: It is optional and depends on APK. | K10: NotSupport
A11: 3. Sprint Customization Requirements
B12: 3.1 OMA-DM client
D13: ANDR-020 | E13: Customer Equipment MUST provide an OMA-DM client that meets the requirements defined in the Sprint OMA-DM Client Functional Requirements [1]. | F13: FC
D14: ANDR-022 | E14: If the OMA-DM client engine resides within the Android OS, the provisioning parameters MUST NOT be exposed to Android Dalvik applications other than through protected Sprint Android extensions. | F14: FC
D15: ANDR-008 | E15: The provisioning parameters MUST NOT be stored in the Android file system in an unencrypted manor or be accessible by any application other than the OMA-DM client. | F15: FC
D16: ANDR-023 | E16: The OMA-DM client MUST provide a UI to allow the user to perform the Client Initiated Device Configuration (CIDC), the Client Initiated Firmware update (CI FUMO), and the client initiated PRL Upgrade (CI PRL). | F16: FC
D17: ANDR-024 | E17: The OMA-DM client MUST support the Sprint Android extension to support the interaction with the Device Self Service (DSS) client as defined in section 5.4 OMA-DM extension. | F17: FC
D18: ANDR-027 | E18: If the user chooses ‘Activate during the Hands Free Activation screen, the OMA-DM client MUST launch DSS client. | F18: FC
D19: ANDR-026 | E19: Customer Equipment MUST disable the screen timeout while the Hands Free Activation client is running in the foreground. The display needs to stay turned on and the screen saver MUST NOT be activated while the HFA screen is displayed. | F19: FC
B20: 3.2 Out of Box experience and OEM’s setup wizard
D21: ANDR-260 | E21: The out of box experience of the Android device MUST follow the flow as defined in the Sprint OMA-DM Client Functional Requirements [1]. | F21: FC
D22: ANDR-261 | E22: The flow of OEM's setup wizard MUST be reviewed and approved by Sprint. | F22: FC
D23: ANDR-262 | E23: When the OEM's setup wizard is closed, the setup wizard MUST send the broadcasting intent, "com.sprint.android.ACTION_SETUP_COMPLETED." | G23: NA | H23: Google default setupwizard,we can not modify. [06102011 Sprint]Line 23 and 24 should be NA. Google does not provide a device level setup wizard, only a wizard for setting up the Google account. So the device does not have a setup wizard. And this may cause some issues with location services that I can go over with them. [06142011 ZTE]change NC to NA | K23: NotSupport
D24: ANDR-263 | E24: During the OEM's setup wizard, the screen timeout MUST be disabled. The display needs to stay turned on the screen save MUST NOT be active until user exits the OEM’s setup wizard. | G24: NA | H24: Google default setupwizard,we can not modify. [06102011 Sprint]Line 23 and 24 should be NA. Google does not provide a device level setup wizard, only a wizard for setting up the Google account. So the device does not have a setup wizard. And this may cause some issues with location services that I can go over with them. [06142011 ZTE]change NC to NA | K24: NotSupport
D25: ANDR-264 | E25: OEM MUST turn off location services by default unless the user elects to enable location services. Note that this is a change from the location privacy setting that Sprint normally sets to off (which is to enable location services). This is a requirement for Google approval. | F25: FC
B26: 3.3 Device Self Service Client
D27: ANDR-031 | E27: Customer Equipment MUST support the following Android standard APIs: android.webkit.WebView android.webkit packages ACTION_CALL intent with “tel:phonenumber” URI. Enforcement of the Android.permission.CALL_PHONE permission. HTTP 1.1 support as defined in RFC 2818. Support for URL that can be as long as 255 characters. | F27: FC
C28: 3.3.1 User Intent Intercept
D29: ANDR-037 | E29: Customer Equipment MUST maintain a list of key sequence, as defined in the Sprint PRI, that the dialer application must check each time the user enters a key sequence and presses the “Talk” or “Call” key. | F29: FC
D30: ANDR-036 | E30: When the user entered key sequence in the dialer application matches the one of the key sequence listed in the Sprint PRI Template Program Release Instructions and factory default template [3], the Android device MUST launch the DSS application. | F30: FC
B31: 3.4 Hidden menu support
D32: ANDR-040 | E32: Customer Equipment MUST support the following hidden menus specified in the Sprint 3G Customer Equipment General Functional Requirements [4]. | F32: FC
D33: ANDR-007 | E33: Customer Equipment MUST support the hidden menus of any other Sprint specification that the device is required to support. | F33: FC
D34: ANDR-033 | E34: Customer Equipment MUST support the ##SCRTN# hidden command. When the command is executed, the following actions must be performed: • Reset the MDN to factory default • Reset the MSID to factory default • Reset the Slot 1 NAI to factory default • Reset the Slot 1 NAI password to factory default • Set the active MIP profile to 0 • Reboot | F34: FC
D35: ANDR-032 | E35: Customer Equipment MUST provide configurable parameters for the DSS client in a new menu named “DSS” in the hidden menu ##DATA#. The parameters that MUST be supported are: DSS Server URL DSS proxy server IP address DSS proxy server port # | F35: FC
D36: ANDR-140 | E36: Customer Equipment MUST support ##CLEAR# as defined in the Sprint 3G Customer Equipment General Functional Requirements [4] which will reset the radio modems to the default PRI settings but not modify any of the Android settings. Note: This should reset the values found in the Sprint PRI Template Program Release Instructions and factory default template [3] that are marked as reset when ##CELAR# is executed which affects the radio modems only. All of the settings found on the Menu tab of the PRI document should remain untouched as well as all of the user data and content storage databases. | F36: FC
B37: 3.5 Software Update
D38: ANDR-009 | E38: The software update process MUST preserve the customer data listed in Table 1 - Customer Data during the update. | F38: FC
C39: 3.5.2 Alternative OTA update mechanism
D40: ANDR-070 | E40: In addition to Sprint FUMO, the Customer Equipment MUST support an alternative OTA software update mechanism that does not utilize Sprint’s FUMO infrastructure. | G40: N/A | H40: The device supports FOTA. | K40: NotSupport
...

Sheet AT
A1: Sprint AT Command Requirements Version 1.6 April 2010
D2: Req ID | E2: Requirement | F2: Comply | G2: Not Comply | H2: Comments | K2: N850需求验证结果 | L2: 负责人
A3: 2.0 Standards Based Commands
B4: 2.1 General Command requirements
D5: ATCMD-001 | E5: CE MUST return "OK" for any command that is successfully executed but does not return a result. | F5: FC
D6: ATCMD-002 | E6: CE MUST return "ERROR" for any command that is not successfully executed. | F6: FC
D7: ATCMD-003 | E7: CE MUST check all user entered values that will be stored on the device to ensure that the values are the correct type, range and length for the data before attempting to store the data. | F7: FC
D8: ATCMD-004 | E8: CE MUST support all AT commands over all supported Rm interface connections. | G8: N/A | H8: platform does not support | K8: NotSupport
B9: 2.2 IS-707 A Parameters
D10: ATCMD-005 | E10: CE MUST support the parameter E0 which will turn off echo commands. | F10: FC
D11: ATCMD-006 | E11: CE MUST support the parameter E1 which will turn on echo commands. | F11: FC
D12: ATCMD-007 | E12: CE MUST set the E parameter to E1 as default. | F12: FC
D13: ATCMD-008 | E13: CE MUST support the parameter Q0 which will cause the device to return result codes. | F13: FC
D14: ATCMD-009 | E14: CE MUST support the parameter Q1 which will cause the device to NOT return result codes. | F14: FC
D15: ATCMD-010 | E15: CE MUST set the Q parameter to Q0 as default. | F15: FC
D16: ATCMD-011 | E16: CE MUST support the parameter V0 which will cause the device to return result codes as numbers. | F16: FC
D17: ATCMD-012 | E17: CE MUST support the parameter V1 which will cause the device to return result codes as words. | F17: FC
D18: ATCMD-013 | E18: CE MUST set the V parameter to V1 as default. | F18: FC
D19: ATCMD-014 | E19: CE MUST support the parameter Z0 which will cause the device to reset the parameters to the default configuration. | F19: FC
D20: ATCMD-015 | E20: [OPTIONAL] CE MUST support the parameter &C0 (Data Carrier Detect) which will set circuit 109 (CF) or Received Line Signal Detector (RLSD) always on. | G20: N/A | H20: optional | K20: NotSupport
D21: ATCMD-016 | E21: [OPTIONAL] CE MUST support the parameter &C1 (Data Carrier Detect) which will set circuit 109 (CF) or Received Line Signal Detector (RLSD) on in accordance with the specified service. | G21: N/A | H21: optional | K21: NotSupport
D22: ATCMD-017 | E22: [OPTIONAL] CE MUST set the C parameter (Data Carrier Detect) to C1 as default. | G22: N/A | H22: optional | K22: NotSupport
D23: ATCMD-018 | E23: [OPTIONAL] CE MUST support the parameter &D0 (Data Terminal Ready) which will ignore circuit 108/2 (CD). | G23: N/A | H23: optional | K23: NotSupport
D24: ATCMD-019 | E24: [OPTIONAL] CE MUST support the parameter &D1 (Data Terminal Ready) which will enter online command state following ON-to-OFF transition of circuit 108/2. | G24: N/A | H24: optional | K24: NotSupport
D25: ATCMD-020 | E25: [OPTIONAL] CE MUST support the parameter &D2 (Data Terminal Ready) which will enter command state following On to Off transition of circuit 108/2. | G25: N/A | H25: optional | K25: NotSupport
D26: ATCMD-021 | E26: [OPTIONAL] CE MUST set the D parameter (Data Terminal Ready) to D0 as default. | G26: N/A | H26: optional | K26: NotSupport
B27: 2.3 IS-707 A Extended Configuration Commands
D28: ATCMD-022 | E28: CE MUST support “AT+GCAP” which will return the list of all commands supported by the device. | F28: FC
D29: ATCMD-023 | E29: CE MUST return “ERROR” for any other AT+GCAP string. | F29: FC
D30: ATCMD-024 | E30: CE MUST support “AT+GMI” which will return the manufacturer name on a single line. | F30: FC
D31: ATCMD-025 | E31: CE MUST return “ERROR” for any other AT+GMI string. | F31: FC
D32: ATCMD-026 | E32: CE MUST support “AT+GMM” which will return the device model name and number as defined by the OEM and approved by Sprint on a single line. | F32: FC
D33: ATCMD-027 | E33: CE MUST return “ERROR” for any other AT+GMM string. | F33: FC
D34: ATCMD-028 | E34: CE MUST support “AT+GMR” which will return the current firmware version on a single line.
D35: ATCMD-029 | E35: [OPTIONAL] For devices with multiple processors, “AT+GMR” MUST return the firmware of each processor on a separate line in the format of “P<X>:<firmware version>”. | G35: N/A | H35: optional | K35: NotSupport
D36: ATCMD-030 | E36: CE MUST return “ERROR” for any other AT+GMR string. | F36: FC
D37: ATCMD-031 | E37: CE MUST support “AT+GSN” which will return the “<ESN>” or the “<MEID>:<pseudo ESN>” of the device. | F37: FC
D38: ATCMD-032 | E38: CE MUST return the decimal value on the first line and the hexadecimal value on the second line for “AT+GSN”. | F38: FC
D39: ATCMD-033 | E39: CE MUST return “ERROR” for any other AT+GSN string. | F39: FC
D40: ATCMD-034 | E40: CE MUST support “AT+ICF=<format>,<parity>” which will set the character framing between the device and a connected terminal. | F40: FC
...

Sheet Automation
A1: Sprint Automation Requirements Version 1.0 April 2010
D2: Req ID | E2: Requirement | F2: Comply | G2: Not Comply | H2: Comments | I2: Sprint Comments | K2: N850需求验证结果 | L2: 负责人
A3: 2.0 Modification for Automation
D4: Auto-001 | E4: Customer Equipment MUST support setting the backlight to an "always on" setting through Slate. | F4: FC
D5: Auto-002 | E5: Customer Equipment MUST maintain the backlight “always on” setting through power cycles. | F5: FC
D6: Auto-003 | E6: Customer Equipment MUST reset the backlight setting to the factory default as per the PRI when the device is reset using ##RTN#. | F6: FC
D7: Auto-004 | E7: Customer Equipment MUST support the ability to disable USB charging through Slate. | F7: FC
D8: Auto-005 | E8: Customer Equipment MUST maintain the disable USB charging setting through power cycles. | F8: FC
D9: Auto-006 | E9: Customer Equipment MUST reset the USB charging to on when the device is reset using ##RTN#. | F9: FC
A10: 3.0 Device XML
B11: 3.1 Device logging
D12: Auto-007 | E12: Customer Equipment MUST allow retrieval of all PPP packets from the device in real-time. | F12: FC
D13: Auto-008 | E13: Customer Equipment MUST allow retrieval of PPP packets from the device while the device is in a tethered data session in real-time. | F13: FC
D14: Auto-009 | E14: Customer Equipment MUST allow retrieval of all CDMA OTA messages from the device in real-time. | F14: FC
D15: Auto-010 | E15: Customer Equipment MUST allow retrieval of CDMA OTA messages from the device while the device is in a tethered data session in real-time. | F15: FC
D16: Auto-011 | E16: Customer Equipment MUST allow retrieval of debug messages from the device in real-time. | F16: FC
D17: Auto-012 | E17: Customer Equipment MUST allow retrieval of debug messages from the device while the device is in a tethered data session in real-time. | F17: FC
D18: Auto-013 | E18: Customer Equipment MUST allow logging of the device from power on. | F18: FC
B19: 3.2 Functions
D20: Auto-014 | E20: Customer Equipment MUST support the options listed in Table 1 Functions to allow Slate to be able to access and control the device. | F20: FC
D21: Auto-015 | E21: CaptureImage | F21: FC | H21: adb | I21: ZTE should present this approach to Skylink before setting for adb
D22: Auto-016 | E22: GetAirplaneMode | F22: FC | I22: ZTE should present this approach to Skylink before setting for adb
D23: Auto-017 | E23: GetBacklightSettings | F23: FC | I23: ZTE should present this approach to Skylink before setting for adb
D24: Auto-018 | E24: GetBatteryChargingState | F24: FC | I24: ZTE should present this approach to Skylink before setting for adb
D25: Auto-019 | E25: GetBatteryLevel | F25: FC | I25: ZTE should present this approach to Skylink before setting for adb
D26: Auto-020 | E26: GetBluetoothStatus | F26: FC | I26: ZTE should present this approach to Skylink before setting for adb
D27: Auto-021 | E27: GetChannel | F27: FC | I27: ZTE should present this approach to Skylink before setting for adb
D28: Auto-022 | E28: GetCMLogState | F28: FC | I28: ZTE should present this approach to Skylink before setting for adb
D29: Auto-023 | E29: GetESN | F29: FC | I29: ZTE should present this approach to Skylink before setting for adb
D30: Auto-024 | E30: GetGPSStatus | F30: FC | I30: ZTE should present this approach to Skylink before setting for adb
D31: Auto-025 | E31: GetHardwareVersion | F31: FC | I31: ZTE should present this approach to Skylink before setting for adb
D32: Auto-026 | E32: GetKeypadBacklight | G32: NA | H32: The device is a touch phone. | K32: NotSupport
D33: Auto-027 | E33: GetManufacturer | F33: FC | I33: ZTE should present this approach to Skylink before setting for adb
D34: Auto-028 | E34: GetMDN | F34: FC
D35: Auto-029 | E35: GetMEID | F35: FC
D36: Auto-030 | E36: GetModel | F36: FC | I36: ZTE should present this approach to Skylink before setting for adb
D37: Auto-031 | E37: GetMSID | F37: FC
D38: Auto-032 | E38: GetNID | F38: FC
D39: Auto-033 | E39: GetNVItem | F39: FC
D40: Auto-034 | E40: GetPRL | F40: FC
...

Sheet Camera
A1: ID | B1: Requirement | C1: Compliance | D1: Comments | K1: N850需求验证结果 | L1: 负责人
A2: 1.1 Disclosure
A3: CAM-1 | B3: OEM MUST disclose all information required in the VIF. | C3: FC
A4: CAM-2 | B4: OEM MUST provide technical documentation upon request by Sprint. | C4: FC
A5: CAM-3 | B5: OEM MUST provide test results from an approved lab upon request. | C5: FC
A6: 1.1 Class
A7: CAM-4 | B7: Customer equipment MUST belong one of the following classes: | C7: FC
A8: - | B8: Basic Imaging | C8: FC
A9: - | B9: Enhanced Imaging | C9: N/A | D9: It is up to application. | K9: NotSupport
A10: - | B10: Advanced Imaging | C10: N/A | D10: The device is basic imaging. | K10: NotSupport
A11: - | B11: Customer equipment MAY belong one of the following classes: | C11: N/A | D11: The device does not support stereo image. | K11: NotSupport
A12: - | B12: Stereo Imaging | C12: N/A | K12: NotSupport
A13: CAM-5 | B13: Customer equipment MUST conform to the conditional requirements of the Stereo Imaging class. | C13: N/A | K13: NotSupport
A14: 2.1 Sensor Requirements
A15: CAM-6 | B15: All camera systems MUST meet or exceed the appropriate minimum pixel count for their imaging class:
A16: - | B16: Basic Imaging RFC ≥ 2.0 MP | C16: FC | D16: 5MP camera
A17: - | B17: Basic Imaging FFC ≥ 1.0 MP | C17: N/A | D17: The device does not support FFC | K17: NotSupport
A18: - | B18: Enhanced Imaging RFC ≥ 3.0 MP | C18: N/A | K18: NotSupport
A19: - | B19: Enhanced Imaging FFC ≥ 2.0 MP | C19: N/A | K19: NotSupport
A20: - | B20: Advanced Imaging RFC ≥ 5.0 MP | C20: N/A | K20: NotSupport
A21: - | B21: Advanced Imaging FFC ≥ 2.0 MP | C21: N/A | K21: NotSupport
A22: CAM-7 | B22: All camera systems MUST meet or exceed the appropriate minimum pixel size for their imaging class:
A23: - | B23: Basic Imaging ≥ 1.40x1.40 ± 0.05µm | C23: FC
A24: - | B24: Enhanced Imaging ≥ 1.75x1.75 ± 0.05µm | C24: N/A | D24: The device is basic imaging. | K24: NotSupport
A25: - | B25: Advanced Imaging ≥ 2.00x2.00 ± 0.05µm | C25: N/A | D25: The device is basic imaging. | K25: NotSupport
A26: CAM-8 | B26: All camer systems in the Enhanced or Advanced Imaging class MUST use a Back-Illuminated or equivalent, comparable solution. | C26: FC
A27: CAM-9 | B27: All cameras in the Enhanced or Advanced Imaging class MUST use a dedicated ISP or image core. | C27: FC
A28: CAM-10 | B28: All cameras MUST support at least five distinct ISO equvalents ranging from ISO-100 to ISO-1000. | C28: PC | D28: 100~800 4level
A29: CAM-11 | B29: All cameras MUST support an Auto-ISO setting. | C29: FC
A30: CAM-12 | B30: All cameras MUST utilize TTL light metering via the sensor. | C30: FC
A31: CAM-13 | B31: All cameras in the Enhanced or Advanced Imaging class MUST allow the user to change ISO settings manually. | C31: FC
A32: CAM-14 | B32: All camera sensors MUST gamma encode to a mean gamma of .5γ to .7γ. | C32: FC
A33: CAM-15 | B33: All camera sensors MUST NOT incorporate anti-blooming gates. | C33: FC | D33: Not CCD sensor
A34: 2.2 Optical Requirements
A35: CAM-16 | B35: All cameras with a fixed focus lens MUST have an aperture between f/2. and f/4 | C35: N/A | D35: The camera mode does not support this, it is for fixed focus. | K35: NotSupport
A36: CAM-17 | B36: A camera with a variable focus lens MUST support six or more total stops on a 1/3rd stop f/# scale, or equivalent. | C36: FC
A37: CAM-18 | B37: A camera with a variable focus lens MUST employ an optical auto-focus mechanism. | C37: N/A | D37: [06202011 ZTE]It is VCM. | E37: 6/15 - ZTE to verify focus type. | K37: NotSupport
A38: CAM-19 | B38: All cameras in the Enhanced Imaging class MUST use a lens containing at least 3 elements. | C38: N/A | K38: NotSupport
A39: CAM-20 | B39: All cameras in the Advanced Imaging class MUST use a lens containing at least 4 elements. | C39: N/A | K39: NotSupport
A40: CAM-21 | B40: All flat optical surfaces MUST be AR coated on both sides. | C40: N/A | D40: [ZTE]After internal discussion, the device still does not support AR coated on both sides. [06202011 ZTE]We think using AR coated on single side can reach 95% regarding the transmittance. If coated on both sides, the value will be 98%. It is similar and the front AR can be frayed easily. Need to confirm if just AR coated on single side is ok. | E40: 6/15 - Should be FC [08162011 Rachel]single side coating is okay. | K40: NotSupport
...

Sheet Text Messaging
A1: Sprint Text Messaging Application Specification for Mobile Stations Version 3.0.3 | B1: Specification Details | C1: Product Complies | D1: Does Not comply | E1: Comments | K1: N850需求验证结果 | L1: 负责人
A2: 1. Introduction
A3: 1.1
B4: Sprint two-way text messaging service is provided via a standards-based Short Message Service network infrastructure and a standards-based text messaging client on the mobile device. Specifications and requirements for the device client are incorporated in this document, which has been revised over time in support of changing business requirements, requested UI improvements, and addition of new features. This is therefore a ‘living’ document and will continue to be revised as new/changed requirements are identified and adopted. | C4: FC
A5: 1.2 Scope
B6: This document specifies the behaviors, functional and user interface, for mobile devices including Voice Only, Vision (with and without an integrated camera), and PDA-class that incorporate a 2WSMS messaging application with support for WAP Push content. Certain PDA-class devices (e.g., those based on Microsoft Windows Pocket PC) will likely deviate from these specifications in significant ways, but are generally expected to conform to these requirements. | C6: FC
A7: 1.3 References
B8: 1. 3GPP2 C.S0015-A/TIA/EIA-637-B Short Message Service (SMS) for Wideband Spread Spectrum Systems | C8: FC
B9: 2. ANSI/TIA/EIA-41-D, Cellular Radio telecommunications Intersystem Operations | C9: FC
B10: 3. Sprint PCS 3G Subscriber Equipment Functional Requirements | C10: FC
B11: 4. WAP-230-WSP-20010705-a, WAP Forum Wireless Session Protocol Specification | C11: FC
B12: 5. WAP-259-WDP-20010614-a, WAP Forum Wireless Datagram Protocol Specification | C12: FC
B13: 6. TIA/EIA/IS-835, cdma2000 Wireless IP Network Standard | C13: FC
B14: 7. WAP-235-PushOTA-20010425-a, WAP Forum Push OTA Protocol Specification | C14: FC
B15: 8. WAP-168-ServiceLoad-20010731-a | C15: FC
B16: 9. WAP-175-CacheOp-20010731-a | C16: FC
B17: 10. WAP-167-ServiceInd-20010731-a | C17: FC
B18: 11. Sprint PCS 3G Application Management System Requirements | C18: FC
B19: 12. 2-Way SMS E-mail Interim Solution, Exhibit B (Motorola document) | C19: FC
... B23: 16. Sprint Simple Data Exchange(SDE) Specification. | C23: FC
A24: 2. General Requirements
A25: 2.1 Standards Compliance
B26: Sprint mobile devices will implement a Short Message Service client per 3GPP2 C.S0015-A (TIA/EIA-637-B) standard and must adhere to all mandatory aspects of that specification unless noted otherwise herein. Additionally, all mandatory aspects of other referenced standards in this document (e.g., WAP Push standards) must be supported unless otherwise noted, and optional aspects must be supported as specified in subsequent sections of this document. | C26: FC
A27: 2.2 Pre-Service Launch Message Submission (deprecated)
B28: This section is outdated and support for the functions herein is no longer required. It is only retained in this document for historical reasons and to preserve section numbering consistency in the rest of the document.
A29: 2.2.1 Overview
B30: Currently, when a non-Virgin Mobile (VMU) subscriber submits an MO-SMS message to the Sprint network, an SMS Acknowledge message is returned to the sending device with a CAUSE_CODE of 108, put in place by VMU at Sprint’s request for the purpose of fulfilling Sprint’s pre-service-launch requirements. Until Sprint’s own 2WSMS service is launched, VMU will continue to return CAUSE_CODE 108 in the SMS Acknowledge messages to non-VMU devices. Once the service is launched, VMU systems will no longer handle messages submitted by Sprint subscribers and therefore the CAUSE_CODE 108 value will cease to be returned to mobile stations. Mobile stations released prior to the launch of the Sprint 2WSMS service MUST respond to SMS Acknowledge messages with CAUSE_CODE=108 as described herein:
A31: 2.2.2 Vision Devices
B32: A Sprint Vision device built to this specification, upon reception of an SMS Acknowledge Message (message type 0x02) with CAUSE_CODE = 108, must display the following notification to the user:
B33: Error: Message Not Delivered
B34: This service will be available soon. You will receive a text message when it is ready. Until then, you can use Short Mail to send text messages to any other wireless phone from the browser on this phone. Look for Web on your phone's menu.
A35: 2.2.3 Voice Only Devices
B36: A Sprint Voice-Only device built to this specification, upon reception of an SMS Acknowledge Message (message type 0x02) with CAUSE_CODE = 108, must display the following notification to the user:
B37: Error: Message Not Delivered
B38: This service will be available soon. You will receive a text message when it is ready.
A39: 2.2.4 Retry Requirements
B40: Regardless of whether the SMS Acknowledgement message contains a temporary error (ERROR_CLASS=2) or permanent error (ERROR_CLASS=3), the device MUST NOT perform any re-submissions of the SMS Submit message that generated the CAUSE_CODE 108 Acknowledgement. In other words, no manual or automatic retries are to be made on messages receiving the 108 CAUSE_CODE. Refer to section 2.11.3 for additional requirements regarding error handling and retry attempts.
A41: 2.3 Phone Book Integration
B42: The Sprint Text Messaging application must be integrated with the host device’s native phone book such that addresses contained in the phone book may be easily used for messaging. See section 5.1 of this document for further details on messaging application integration requirements. | C42: FC
A43: 2.4 Interactions with Other Services
...

Sheet General Functional
A1: Manufacturer: | B1: ZTE
A2: Device Model: | B2: Sean
A3: Device Chipset: | B3: MSM8655
A4: Device AMSS version:
A5: Sprint General Functional Requirements 3.4 Air Interface and Call Processing
A6: Specification Section | B6: Requirement Details | C6: Product Complies | D6: Does Not comply | E6: Sprint Owner | F6: Comments | K6: N850需求验证结果 | L6: 负责人
A7: 1.1 CDMA Operations
A8: 1.1 CDMA Operations | B8: The Customer Equipment MUST be configured to use P_REV 6 by default. | C8: FC | E8: Perez
A9: 1.1 CDMA Operations | B9: The Customer Equipment MUST be capable of operating in a PCS CDMA network which supports any of P_REV 1, 4, 5, or 6. | C9: FC | E9: Perez
A10: 1.1 CDMA Operations | B10: Customer Equipment MUST always use the highest available P_REV (P_REV 6), unless it has been specifically configured to use a lower P_REV. | C10: FC | E10: Perez
A11: 1.1 CDMA Operations | B11: The Customer Equipment MUST support all physical channels as specified in the cdma2000 Family of Standards at Release 0 [1] including QuickPaging. | C11: FC | E11: Perez
A12: 1.1.1 PCS CDMA
A13: 1.1.1 PCS CDMA | B13: The Customer Equipment MUST support PCS CDMA operation in full compliance with the cdma2000 Family of Standards at Release 0 [1], including addendum 1 [2] and addendum 2 [3], and as specified in TIA-1030, Band Class Specification for cdma2000 Spread Spectrum Systems [45]. | C13: FC | E13: Perez
A14: 1.1.1 PCS CDMA | B14: The Customer Equipment MUST support Band Class 14, Blocks A through G, when RF components, device baseband, and network interoperability testing is available. | C14: FC | E14: Perez
A15: 1.1.1 PCS CDMA | B15: The Customer Equipment MUST comply with TIA/EIA IS-98 (latest release from TIA/EIA) [4]. | C15: FC | E15: Perez
A16: 1.1.1 PCS CDMA | B16: The Customer Equipment MUST comply with the Sprint OTA Antenna Performance Test Requirements [61]. | C16: FC | E16: Perez | F16: The device can not meet the requirement except TIS<=-104dBm in free space. [10182011 ZTE]Update PC to FC. The device can meet this requirement per the lastest test result. | G16: 6/15 - Required to be full compliant.
A17: 1.1.1 PCS CDMA | B17: The Customer Equipment MUST have a minimum conducted CDMA receiver sensitivity of at least –108.0 dBm across all PCS blocks. | C17: FC | E17: Perez
A18: 1.1.1 PCS CDMA | B18: The Customer Equipment MUST have a minimum conducted EVDO receiver sensitivity of at least –108.0 dBm across all PCS blocks. | C18: FC | E18: Perez
A19: 1.1.1 PCS CDMA | B19: The Customer Equipment MUST have a minimum radiated sensitivity of at least –104.0 dBm across all PCS CDMA channels. | C19: FC | E19: Perez
A20: 1.1.1 PCS CDMA | B20: The Customer Equipment MUST have a minimum radiated sensitivity of at least –100.0 dBm with a phantom head and hand test configuration across all PCS CDMA channels as defined in the Sprint OTA Antenna Performance Test Requirements. | C20: FC | E20: Perez | F20: The device can meet -97dBm because the signal is covered and absorbed by head and hand and impedance mismatch(about 7dB degradation) [10182011 ZTE]Update NC to FC. The device can meet this requirement per the lastest test result. | G20: 6/15 - Required to be full compliant.
A21: 1.1.1 PCS CDMA | B21: Customer Equipment MUST support a maximum conducted power of at least 24dBm. | C21: FC | E21: Perez
A22: 1.1.1 PCS CDMA | B22: Customer Equipment MUST support a Total Radiated Power (TRP) of 21dBm as defined in the Sprint OTA Antenna Performance Test Requirements specification | C22: FC | E22: Perez | F22: The device can meet 19dBm when considering the SAR standard. [10182011 ZTE]update NC to FC. The device can meet this standard per the latest test result. | G22: 6/15 - Required to be full compliant.
A23: 1.1.1 PCS CDMA | B23: The Customer Equipment MUST support a TRP of at least 17dBm with a phantom head and hand testing configuration across all PCS CDMA channels as defined in the Sprint OTA Antenna Performance Test Requirements. | C23: FC | E23: Perez | F23: Estimate to be 12dBm because the signal is covered and absorbed by head and hand and impedance mismatch (about 7dB degradation) [10182011 ZTE]Update NC to FC. The device can meet at least 15dBm regarding this test.; ZTE intend to comply but will not know the final results until testing completed | G23: 6/15 - Required to be full compliant.
A24: 1.1.1 PCS CDMA | B24: Vendor MUST provide noise figure measurements between the antenna and the analog to digital converter circuitry of the mobile station modem for each antenna path supported by the Customer Equipment. | C24: FC | E24: Perez
A25: 1.1.1 PCS CDMA | B25: The Customer Equipment radiated antenna loss MUST NOT be greater than 3 dB across all PCS blocks (Conducted – Radiated < 3dB). | C25: FC | E25: Perez | F25: The device can not meet the 50% requirement but can meet 40% criteria. [10182011 ZTE]Update to FC.ZTE intend to comply but will not know the final results until testing completed | G25: 6/15 - Required to be full compliant.
A26: 1.1.2 Cellular CDMA
A27: 1.1.2 Cellular CDMA | B27: The Customer Equipment MUST meet the requirements in the cdma2000 Family of Standards at Release 0 [1] for Cellular CDMA operations | C27: FC | E27: Perez
A28: 1.1.2 Cellular CDMA | B28: The Customer Equipment MUST support all of the Band Class 10 requirements specified in the Sprint Customer Equipment Band Class 10 Requirements [47] document. | C28: FC | E28: Perez
A29: 1.1.2 Cellular CDMA | B29: The Customer Equipment MUST comply with the cdma2000 Family of Standards at Release 0 [1] and meet or exceed TIA/EIA IS-98 (latest release from TIA/EIA) [4] for band class 0 and 10. | C29: FC | E29: Perez
A30: 1.1.2 Cellular CDMA | B30: The Customer Equipment MUST have a minimum conducted CDMA receiver sensitivity of at least –106.5 dBm across all Cellular channels. | C30: FC | E30: Perez
A31: 1.1.2 Cellular CDMA | B31: The Customer Equipment MUST have a minimum radiated sensitivity of at least –104.0 dBm across Band Class 0 CDMA channels as defined in the Sprint OTA Antenna Performance Test Requirements specification. | C31: FC | E31: Perez | F31: The device can meet -102dBm [10182011 ZTE]Update NC to FC. The device can meet this per the latest test result. There is about 1dBm off. | G31: 6/15 - Required to be full compliant. 8/3 - [Shipley] - Values indicated are approved.
A32: 1.1.2 Cellular CDMA | B32: Customer Equipment MUST support a Total Radiated Power (TRP) of 20dBm across Band class 0 channels as defined in the Sprint OTA Antenna Performance Test Requirements specification. | C32: FC | E32: Perez | F32: The device can meet 19dBm. [10182011 ZTE]Update NC to FC. The device can meet this per the latest test result except the 777ch. | G32: 6/15 - Required to be full compliant. 8/3 - [Shipley] - Values indicated are approved.
A33: 1.2 Service Option Support
A34: 1.2 Service Option Support | B34: The Customer Equipment MUST support the service options defined in Table 1-1, Service Options | C34: FC | E34: Perez
A35: Table 1-1 - Service Options | B35: 2 - Loopback Rateset 1 | C35: FC | E35: Perez
A36: Table 1-1 - Service Options | B36: 3 - Voice EVRC | C36: FC | E36: Perez
A37: Table 1-1 - Service Options | B37: 6 - SMS | C37: FC | E37: Perez
A38: Table 1-1 - Service Options | B38: 9 - Loopback Rateset 2 | C38: FC | E38: Perez
A39: Table 1-1 - Service Options | B39: 17 - Voice (13K) | C39: FC | E39: Perez
A40: Table 1-1 - Service Options | B40: 32 - TDSO (Test Data) | C40: FC | E40: Perez
...

Sheet Address Book
